BEGIN:VCALENDAR
PRODID:-//Microsoft Corporation//Outlook 12.0 MIMEDIR//EN
VERSION:2.0
CALSCALE:GREGORIAN
BEGIN:VEVENT
UID: df74c300-2b1b-490e-859b-b5d34daf3e25
SUMMARY:Veoautojuhi täienduskoolitus
DTSTAMP:20260521
DTSTART:20260521
DTEND:20260525
DURATION:P4D
LOCATION:Raplamaa Rakenduslik Kolledž, 79001, Eesti
DESCRIPTION: <p>Koolitus on suunatud C- või C1-kategooria autojuhtidele ning CE- või C1E juhilubade omanikele, kes soovivad saada kutseliseks juhiks ja töötada veoseveol. Kutselistele veoautojuhtidele on antud koolituse läbimine kohustuslik iga viie aasta tagant.</p><p><strong>Koolituse liik:</strong> koolitus</p><p><strong>Osalemisviis:</strong> Ainult kohapeal</p><p><strong>Maht:</strong> 35 akadeemilist tundi</p><p><strong>Keel:</strong> eesti keel</p><p><strong>Osalejate arv:</strong> 10 - 12</p><p><strong>Link: </strong>https://debug.leht.veebiplatvorm.ee/et/koolituste-kalender/veoautojuhi-taienduskoolitus</p><p><strong>Hind: </strong>240.00</p>
STATUS:CONFIRMED
SEQUENCE:3
X-ALT-DESC;FMTTYPE=text/html:<p>Koolitus on suunatud C- või C1-kategooria autojuhtidele ning CE- või C1E juhilubade omanikele, kes soovivad saada kutseliseks juhiks ja töötada veoseveol. Kutselistele veoautojuhtidele on antud koolituse läbimine kohustuslik iga viie aasta tagant.</p><p><strong>Koolituse liik:</strong> koolitus</p><p><strong>Osalemisviis:</strong> Ainult kohapeal</p><p><strong>Maht:</strong> 35 akadeemilist tundi</p><p><strong>Keel:</strong> eesti keel</p><p><strong>Osalejate arv:</strong> 10 - 12</p><p><strong>Link: </strong>https://debug.leht.veebiplatvorm.ee/et/koolituste-kalender/veoautojuhi-taienduskoolitus</p><p><strong>Hind: </strong>240.00</p>
X-MICROSOFT-CDO-BUSYSTATUS:OOF
X-MICROSOFT-CDO-IMPORTANCE:1
X-MICROSOFT-DISALLOW-COUNTER:FALSE
X-MS-OLK-ALLOWEXTERNCHECK:TRUE
X-MS-OLK-CONFTYPE:0
X-MICROSOFT-CDO-ALLDAYEVENT:1
X-MICROSOFT-MSNCALENDAR-ALLDAYEVENT:1
END:VEVENT
END:VCALENDAR